BEGIN:VCALENDAR
VERSION:2.0
PRODID:-//Mornington FGA - ECPv6.15.20//NONSGML v1.0//EN
CALSCALE:GREGORIAN
METHOD:PUBLISH
X-WR-CALNAME:Mornington FGA
X-ORIGINAL-URL:https://morningtonfga.com.au
X-WR-CALDESC:Events for Mornington FGA
REFRESH-INTERVAL;VALUE=DURATION:PT1H
X-Robots-Tag:noindex
X-PUBLISHED-TTL:PT1H
BEGIN:VTIMEZONE
TZID:Australia/Melbourne
BEGIN:STANDARD
TZOFFSETFROM:+1100
TZOFFSETTO:+1000
TZNAME:AEST
DTSTART:20250405T160000
END:STANDARD
BEGIN:DAYLIGHT
TZOFFSETFROM:+1000
TZOFFSETTO:+1100
TZNAME:AEDT
DTSTART:20251004T160000
END:DAYLIGHT
BEGIN:STANDARD
TZOFFSETFROM:+1100
TZOFFSETTO:+1000
TZNAME:AEST
DTSTART:20260404T160000
END:STANDARD
BEGIN:DAYLIGHT
TZOFFSETFROM:+1000
TZOFFSETTO:+1100
TZNAME:AEDT
DTSTART:20261003T160000
END:DAYLIGHT
BEGIN:STANDARD
TZOFFSETFROM:+1100
TZOFFSETTO:+1000
TZNAME:AEST
DTSTART:20270403T160000
END:STANDARD
BEGIN:DAYLIGHT
TZOFFSETFROM:+1000
TZOFFSETTO:+1100
TZNAME:AEDT
DTSTART:20271002T160000
END:DAYLIGHT
END:VTIMEZONE
BEGIN:VEVENT
DTSTART;TZID=Australia/Melbourne:20260725T120000
DTEND;TZID=Australia/Melbourne:20260725T160000
DTSTAMP:20260420T231535
CREATED:20251229T004927Z
LAST-MODIFIED:20260131T024015Z
UID:21077-1784980800-1784995200@morningtonfga.com.au
SUMMARY:July 25th Bill Rae Memorial Shoot
DESCRIPTION:Our Bill Rae Memorial shoot for 2026 is on Saturday 25th July 2026
URL:https://morningtonfga.com.au/event/july-saturday-shoot/
LOCATION:Mornington FGA Shooting Grounds\, 58 Coolart Road\, Balnnaring\, Victoria\, 3926\, Australia
CATEGORIES:Shooting
ATTACH;FMTTYPE=image/jpeg:https://morningtonfga.com.au/wp-content/uploads/2025/12/20231125_124724-e1766971818154.jpg
ORGANIZER;CN="MFGA":MAILTO:info@morningtonfga.com.au
END:VEVENT
END:VCALENDAR